BEGIN:VCALENDAR
VERSION:2.0
PRODID:-//eventon.com NONSGML v1.0//EN
CALSCALE:GREGORIAN
METHOD:PUBLISH
BEGIN:VEVENT
UID:69e4d49a0f6e8
DTSTAMP:20260419T131154Z
DTSTART:20260122T123000Z
DTEND:20260122T130000Z
LOCATION:Niederrheinisches Museum Kevelaer Hauptstraße 18
SUMMARY:KUNSTPAUSE
DESCRIPTION:30-minütige Kurzführung in der Mittagspause zu immer neuen Ku
 nst- und Kulturthemen. Ohne Anmeldung | 2\, 50 Euro pro Person\nhttps://nie
 derrheinisches-museum-kevelaer.de/events/kunstpause-37/
URL:https://niederrheinisches-museum-kevelaer.de/events/kunstpause-37/
END:VEVENT
END:VCALENDAR