BEGIN:VCALENDAR
VERSION:2.0
PRODID:-//eventon.com NONSGML v1.0//EN
CALSCALE:GREGORIAN
METHOD:PUBLISH
BEGIN:VEVENT
UID:69e752e9943a8
DTSTAMP:20260421T103521Z
DTSTART:20260117T173000Z
DTEND:20260117T200000Z
LOCATION:Niederrheinisches Museum Kevelaer Hauptstraße 18
SUMMARY:NACHTS IM MUSEUM FÜR KINDER
DESCRIPTION:An diesem dunklen\,  mysteriösen Januarabend dürfen mutige Ki
 nder mit ihren Familien die große Spielzeugabteilung im Schein der Taschen
 lampe eigenständig erkunden. Wenn da mal nicht die ein oder andere Überra
 schung auf die Nachtschwärmer wartet… Also besser eine Taschenlampe mitb
 ringen! Ohne Anmeldung | 5\, 00 Euro pro Person\nhttps://niederrheinisches-
 museum-kevelaer.de/events/nachts-im-museum-fuer-kinder/
URL:https://niederrheinisches-museum-kevelaer.de/events/nachts-im-museum-fuer-kinder/
END:VEVENT
END:VCALENDAR