BEGIN:VCALENDAR
VERSION:2.0
PRODID:-//eventon.com NONSGML v1.0//EN
CALSCALE:GREGORIAN
METHOD:PUBLISH
BEGIN:VEVENT
UID:69e7683e2c68b
DTSTAMP:20260421T120622Z
DTSTART:20260116T180000Z
DTEND:20260116T200000Z
LOCATION:Niederrheinisches Museum Kevelaer Hauptstraße 18
SUMMARY:NACHTS IM MUSEUM FÜR ERWACHSENE
DESCRIPTION:Führung im Dunklen der Spielzeugsammlung in außergewöhnliche
 r Atmosphäre. Mit Anmeldung | 7\, 00 Euro pro Person\nhttps://niederrheini
 sches-museum-kevelaer.de/events/nachts-im-museum-fuer-erwachsene/
URL:https://niederrheinisches-museum-kevelaer.de/events/nachts-im-museum-fuer-erwachsene/
END:VEVENT
END:VCALENDAR