BEGIN:VCALENDAR
VERSION:2.0
PRODID:-//eventon.com NONSGML v1.0//EN
CALSCALE:GREGORIAN
METHOD:PUBLISH
BEGIN:VEVENT
UID:69e4d598e769d
DTSTAMP:20260419T131608Z
DTSTART:20251025T110000Z
DTEND:20251025T150000Z
LOCATION:
SUMMARY:Workshop: Versuche in Ton
DESCRIPTION:Experimentelles Keramikatelier für Erwachsene mit Freihandmode
 llieren und farblichem Gestalten von Keramiktellern. Mit Anmeldung | 25\, 0
 0 Euro pro Person\nhttps://niederrheinisches-museum-kevelaer.de/events/work
 shop-versuche-in-ton/
URL:https://niederrheinisches-museum-kevelaer.de/events/workshop-versuche-in-ton/
END:VEVENT
END:VCALENDAR