BEGIN:VCALENDAR
VERSION:2.0
PRODID:-//eventon.com NONSGML v1.0//EN
CALSCALE:GREGORIAN
METHOD:PUBLISH
BEGIN:VEVENT
UID:69e7809a230a7
DTSTAMP:20260421T135018Z
DTSTART:20250717T090000Z
DTEND:20250717T110000Z
LOCATION:Niederrheinisches Museum Kevelaer Hauptstraße 18
SUMMARY:Ferienworkshop
DESCRIPTION:Immer donnerstags finden unsere Workshops für unsere Kinder ab
  sechs Jahren statt. Es werden die unterschiedlichsten Techniken und Themen
  vorbereitet und mit den Kindern erarbeitet. Anmeldung erforderlich bis Die
 nstagvormittag | 8\, 00 Euro pro Kind\nhttps://niederrheinisches-museum-kev
 elaer.de/events/ferienworkshop/
URL:https://niederrheinisches-museum-kevelaer.de/events/ferienworkshop/
END:VEVENT
END:VCALENDAR