BEGIN:VCALENDAR
VERSION:2.0
PRODID:-//eventon.com NONSGML v1.0//EN
CALSCALE:GREGORIAN
METHOD:PUBLISH
BEGIN:VEVENT
UID:69e780216f709
DTSTAMP:20260421T134817Z
DTSTART:20250813T123000Z
DTEND:20250813T130000Z
LOCATION:Niederrheinisches Museum Kevelaer Hauptstraße 18
SUMMARY:Kunstpause
DESCRIPTION:Führung in der Mittagspause zu immer neuen Kunstobjekten und k
 ulturellen Themen in der Dauerausstellung Ohne Anmeldung | 2\, 50 Euro pro 
 Person\nhttps://niederrheinisches-museum-kevelaer.de/events/kunstpause-34/
URL:https://niederrheinisches-museum-kevelaer.de/events/kunstpause-34/
END:VEVENT
END:VCALENDAR