BEGIN:VCALENDAR
VERSION:2.0
PRODID:-//eventon.com NONSGML v1.0//EN
CALSCALE:GREGORIAN
METHOD:PUBLISH
BEGIN:VEVENT
UID:69e7aea7bc767
DTSTAMP:20260421T170647Z
DTSTART:20250718T140000Z
DTEND:20250718T150000Z
LOCATION:Niederrheinisches Museum Kevelaer Hauptstraße 18
SUMMARY:Führung: Heiner Schlesing
DESCRIPTION:Heiner Schlesing Bildwerke des Rheinischen Expressionismus? Fre
 itag\,  18. Juli 2025 | 14.00 Uhr Führung durch die Sonderausstellung Ohne
  Anmeldung | 5\, 00 Euro pro Person\nhttps://niederrheinisches-museum-kevel
 aer.de/events/fuehrung-heiner-schlesing/
URL:https://niederrheinisches-museum-kevelaer.de/events/fuehrung-heiner-schlesing/
END:VEVENT
END:VCALENDAR