BEGIN:VCALENDAR
VERSION:2.0
PRODID:-//eventon.com NONSGML v1.0//EN
CALSCALE:GREGORIAN
METHOD:PUBLISH
BEGIN:VEVENT
UID:69e73b492f53e
DTSTAMP:20260421T085433Z
DTSTART:20250411T150000Z
DTEND:20250411T163000Z
LOCATION:Niederrheinisches Museum Kevelaer Hauptstraße 18
SUMMARY:Wildes Kunstatelier - Oster-Edition
DESCRIPTION:Freies Zeichnen\,  Malen und Kreativsein mit immer wechselnden 
 Materialien und neuen Ideen. Ohne Anmeldung | für Kinder und Jugendliche |
  7\, 50 Euro pro Person\nhttps://niederrheinisches-museum-kevelaer.de/event
 s/wildes-kunstatelier-4/
URL:https://niederrheinisches-museum-kevelaer.de/events/wildes-kunstatelier-4/
END:VEVENT
END:VCALENDAR