BEGIN:VCALENDAR
VERSION:2.0
PRODID:-//eventon.com NONSGML v1.0//EN
CALSCALE:GREGORIAN
METHOD:PUBLISH
BEGIN:VEVENT
UID:69e741a9a5e61
DTSTAMP:20260421T092145Z
DTSTART:20250510T110000Z
DTEND:20250510T120000Z
LOCATION:Niederrheinisches Museum Kevelaer Hauptstraße 18
SUMMARY:Führung durch die Sonderausstellung
DESCRIPTION:Heiner Schlesing – Bildwerke des Rheinischen Expressionismus?
  Die Ausstellung zeigt Werke aus dem Nachlass des Künstlers Heiner Schlesi
 ng (1901 &#8211; 1992)\,  der dem Museum 2021 von seiner Frau Inge Schlesin
 g geschenkt worden ist. Schlesing wurde in Karlruhe geboren und verbrachte 
 die Hälfte seines Lebens in Köln und zwischenzeitlich auch am[..]\nhttps:
 //niederrheinisches-museum-kevelaer.de/events/fuehrung-durch-die-sonderauss
 tellung-2/
URL:https://niederrheinisches-museum-kevelaer.de/events/fuehrung-durch-die-sonderausstellung-2/
END:VEVENT
END:VCALENDAR