BEGIN:VCALENDAR
VERSION:2.0
PRODID:-//eventon.com NONSGML v1.0//EN
CALSCALE:GREGORIAN
METHOD:PUBLISH
BEGIN:VEVENT
UID:69e76a5898c2a
DTSTAMP:20260421T121520Z
DTSTART:20250406T133000Z
DTEND:20250406T160000Z
LOCATION:Niederrheinisches Museum Kevelaer Hauptstraße 18
SUMMARY:Osterhasenatelier - (fällt aus / verschoben auf den 11. April)
DESCRIPTION:Familienworkshop mit fröhlichen Ostergeschenkideen zum Malen\,
   Basteln und Spielen. Ohne Anmeldung | für die ganze Familie | 4\, 00 Eur
 o pro Bastelei\nhttps://niederrheinisches-museum-kevelaer.de/events/osterha
 senatelier/
URL:https://niederrheinisches-museum-kevelaer.de/events/osterhasenatelier/
END:VEVENT
END:VCALENDAR