BEGIN:VCALENDAR
VERSION:2.0
PRODID:-//eventon.com NONSGML v1.0//EN
CALSCALE:GREGORIAN
METHOD:PUBLISH
BEGIN:VEVENT
UID:69e75280abc0c
DTSTAMP:20260421T103336Z
DTSTART:20250406
DTEND:20250407
LOCATION:Niederrheinisches Museum Kevelaer Hauptstraße 18
SUMMARY:Sonderausstellung: Heiner Schlesing - Bildwerke des Rheinischen Expressionismus?
DESCRIPTION:Die Ausstellung zeigt Werke aus dem Nachlass des Künstlers Hei
 ner Schlesing (1901 &#8211; 1992)\,  der dem Museum 2021 von seiner Frau In
 ge Schlesing geschenkt worden ist. Schlesing wurde in Karlruhe geboren und 
 verbrachte die Hälfte seines Lebens in Köln und zwischenzeitlich auch am 
 Niederrhein. Obwohl sein Frühwerk zum Großteil durch[..]\nhttps://niederr
 heinisches-museum-kevelaer.de/events/sonderausstellung-heiner-schlesing-bil
 dwerke-des-rheinischen-expressionismus/
URL:https://niederrheinisches-museum-kevelaer.de/events/sonderausstellung-heiner-schlesing-bildwerke-des-rheinischen-expressionismus/
END:VEVENT
END:VCALENDAR