BEGIN:VCALENDAR
VERSION:2.0
PRODID:-//eventon.com NONSGML v1.0//EN
CALSCALE:GREGORIAN
METHOD:PUBLISH
BEGIN:VEVENT
UID:69e74cd896b05
DTSTAMP:20260421T100928Z
DTSTART:20250215T150000Z
DTEND:20250215T160000Z
LOCATION:Niederrheinisches Museum Kevelaer Hauptstraße 18
SUMMARY:Die Bremer Stadtmusikanten
DESCRIPTION:Dieses Wodo Puppenspiel präsentiert ein klassisches Märchen n
 ach den Brüdern Grimm. Es handelt von vier Tieren\,  die durch ihre Freund
 schaft und Solidarität arge Probleme lösen. Das Stück beginnt mit einer 
 originalen Berliner Drehorgel. Begrenzter Kartenvorverkauf im Museum | 5\, 
 00 Euro pro Person Foto @ Wodo Puppenspiel\nhttps://niederrheinisches-museu
 m-kevelaer.de/events/die-bremer-stadtmusikanten/
URL:https://niederrheinisches-museum-kevelaer.de/events/die-bremer-stadtmusikanten/
END:VEVENT
END:VCALENDAR