BEGIN:VCALENDAR
VERSION:2.0
PRODID:-//eventon.com NONSGML v1.0//EN
CALSCALE:GREGORIAN
METHOD:PUBLISH
BEGIN:VEVENT
UID:69e748e98d66a
DTSTAMP:20260421T095241Z
DTSTART:20250201T110000Z
DTEND:20250201T133000Z
LOCATION:Niederrheinisches Museum Kevelaer Hauptstraße 18
SUMMARY:Mixed Media on Canvas
DESCRIPTION:„Jung und Kreativ“ – Workshop in Kooperation mit wirKsam 
 e.V. Zusatzmaterial von Stoff über Papiercollage bis hin zum Drahtgeflecht
  verwandelt mit Aquarell\,  Tempera und Acryl bemalte Leinwände in dreidim
 ensionale Objekte. Anmeldung nur über www.wirksam-ev.de/jung-und-kreativ/
  | ab 10 Jahren | kostenlos &nbsp;\nhttps://niederrheinisches-museum-kevel
 aer.de/events/mixed-media-on-canvas/
URL:https://niederrheinisches-museum-kevelaer.de/events/mixed-media-on-canvas/
END:VEVENT
END:VCALENDAR