BEGIN:VCALENDAR
VERSION:2.0
PRODID:-//eventon.com NONSGML v1.0//EN
CALSCALE:GREGORIAN
METHOD:PUBLISH
BEGIN:VEVENT
UID:69ea87fe8458b
DTSTAMP:20260423T205838Z
DTSTART:20241221T110000Z
DTEND:20241221T133000Z
LOCATION:Niederrheinisches Museum Kevelaer Hauptstraße 18
SUMMARY:Winteratelier
DESCRIPTION:Im Winteratelier könnt ihr malen\,  basteln und kreativ sein u
 nd um und zu Weihnachten mit tollen Ideen und jeder Menge Glitzer herumexpe
 rimentieren. Mit Anmeldung |ab 6 Jahren | auch für Kindergartenkinder mit 
 Begleitung | 9\, 50 Euro pro Person\nhttps://niederrheinisches-museum-kevel
 aer.de/events/winteratelier-5/
URL:https://niederrheinisches-museum-kevelaer.de/events/winteratelier-5/
END:VEVENT
END:VCALENDAR