BEGIN:VCALENDAR
VERSION:2.0
PRODID:-//eventon.com NONSGML v1.0//EN
CALSCALE:GREGORIAN
METHOD:PUBLISH
BEGIN:VEVENT
UID:69e9b1264d75d
DTSTAMP:20260423T054158Z
DTSTART:20241123T110000Z
DTEND:20241123T133000Z
LOCATION:Niederrheinisches Museum Kevelaer Hauptstraße 18
SUMMARY:Bald\,  bald\,  bald...
DESCRIPTION:Als Vorbereitung auf die Advents- und Weihnachtszeit könnt ihr
  in diesem Workshop für euch oder für jemand anderen einen Adventskalende
 r selbst gestalten. Mit Anmeldung | ab 6 Jahren | 8\, 50 Euro pro Person\nh
 ttps://niederrheinisches-museum-kevelaer.de/events/bald-bald-bald-3/
URL:https://niederrheinisches-museum-kevelaer.de/events/bald-bald-bald-3/
END:VEVENT
END:VCALENDAR