BEGIN:VCALENDAR
VERSION:2.0
PRODID:-//eventon.com NONSGML v1.0//EN
CALSCALE:GREGORIAN
METHOD:PUBLISH
BEGIN:VEVENT
UID:69e99781335aa
DTSTAMP:20260423T035233Z
DTSTART:20241116T110000Z
DTEND:20241116T133000Z
LOCATION:Niederrheinisches Museum Kevelaer Hauptstraße 18
SUMMARY:Bald\,  bald\,  bald...
DESCRIPTION:Als Vorbereitung auf die Advents- und Weihnachtszeit könnt ihr
  in diesem Workshop für euch oder für jemand anderen einen Adventskalende
 r selbst gestalten. Mit Anmeldung | ab 6 Jahren | 8\, 50 Euro pro Person\nh
 ttps://niederrheinisches-museum-kevelaer.de/events/bald-bald-bald-2/
URL:https://niederrheinisches-museum-kevelaer.de/events/bald-bald-bald-2/
END:VEVENT
END:VCALENDAR