BEGIN:VCALENDAR
VERSION:2.0
PRODID:-//eventon.com NONSGML v1.0//EN
CALSCALE:GREGORIAN
METHOD:PUBLISH
BEGIN:VEVENT
UID:69e981d10320a
DTSTAMP:20260423T022001Z
DTSTART:20241023T100000Z
DTEND:20241023T123000Z
LOCATION:Niederrheinisches Museum Kevelaer Hauptstraße 18
SUMMARY:Leinwandmalereien und Farbexperimente
DESCRIPTION:In diesem Workshop wird mit selbst hergestellten Pigmentfarben 
 auf Leinwand gemalt. Mit Anmeldung | ab 8 Jahren | 12\, 00 Euro pro Person\
 nhttps://niederrheinisches-museum-kevelaer.de/events/leinwandmalereien-und-
 farbexperimente-2/
URL:https://niederrheinisches-museum-kevelaer.de/events/leinwandmalereien-und-farbexperimente-2/
END:VEVENT
END:VCALENDAR