BEGIN:VCALENDAR
VERSION:2.0
PRODID:-//eventon.com NONSGML v1.0//EN
CALSCALE:GREGORIAN
METHOD:PUBLISH
BEGIN:VEVENT
UID:69e90a35eda2c
DTSTAMP:20260422T174941Z
DTSTART:20241016T100000Z
DTEND:20241016T123000Z
LOCATION:Niederrheinisches Museum Kevelaer Hauptstraße 18
SUMMARY:Leinwandmalereien und Farbexperimente
DESCRIPTION:In diesem Workshop wird mit selbst hergestellten Pigmentfarben 
 auf Leinwand gemalt. Mit Anmeldung | ab 8 Jahren | 12\, 00 Euro pro Person\
 nhttps://niederrheinisches-museum-kevelaer.de/events/leinwandmalereien-und-
 farbexperimente/
URL:https://niederrheinisches-museum-kevelaer.de/events/leinwandmalereien-und-farbexperimente/
END:VEVENT
END:VCALENDAR