BEGIN:VCALENDAR
VERSION:2.0
PRODID:-//eventon.com NONSGML v1.0//EN
CALSCALE:GREGORIAN
METHOD:PUBLISH
BEGIN:VEVENT
UID:69e9e420e9b75
DTSTAMP:20260423T091928Z
DTSTART:20241201
DTEND:20241202
LOCATION:Niederrheinisches Museum Kevelaer Hauptstraße 18
SUMMARY:Mit dem Christkind um die Wette
DESCRIPTION:In der Advents- und Weihnachtszeit lassen sich im ganzen Museum
  besondere Objekte finden\,  die in Verbindung mit außergewöhnlichen weih
 nachtlichen Traditionen stehen und nur darauf warten\,  von Kindern mit ihr
 en Familien in einem Suchspiel durch das Haus entdeckt zu werden. Ohne Anme
 ldung | Museumseintritt (Familienkarte 9\, 00 Euro) | Rallye frei\nhttps://
 niederrheinisches-museum-kevelaer.de/events/mit-dem-christkind-um-die-wette
 /
URL:https://niederrheinisches-museum-kevelaer.de/events/mit-dem-christkind-um-die-wette/
END:VEVENT
END:VCALENDAR