BEGIN:VCALENDAR
VERSION:2.0
PRODID:-//eventon.com NONSGML v1.0//EN
CALSCALE:GREGORIAN
METHOD:PUBLISH
BEGIN:VEVENT
UID:69e9d007e7712
DTSTAMP:20260423T075343Z
DTSTART:20241207T143000Z
DTEND:20241207T153000Z
LOCATION:Niederrheinisches Museum Kevelaer Hauptstraße 18
SUMMARY:Weihnachtliche Familienführung
DESCRIPTION:Führung für die ganze Familie durch das Haus zu den neueinger
 ichteten Alten Stuben mit einer Entdeckungsreise rund um außergewöhnliche
  weihnachtliche Traditionen und Kultobjekte. Mit anschließender Wunschzett
 el-Malaktion! Ohne Anmeldung | 4\, 50 Euro pro Kind | 6\, 00 Euro pro Erwac
 hsenen\nhttps://niederrheinisches-museum-kevelaer.de/events/weihnachtliche-
 familienfuehrung/
URL:https://niederrheinisches-museum-kevelaer.de/events/weihnachtliche-familienfuehrung/
END:VEVENT
END:VCALENDAR