BEGIN:VCALENDAR
VERSION:2.0
PRODID:-//eventon.com NONSGML v1.0//EN
CALSCALE:GREGORIAN
METHOD:PUBLISH
BEGIN:VEVENT
UID:69e7b421a0a21
DTSTAMP:20260421T173009Z
DTSTART:20241122T100000Z
DTEND:20241122T150000Z
LOCATION:Niederrheinisches Museum Kevelaer Hauptstraße 18
SUMMARY:Zeitgemäß: Totentanz
DESCRIPTION:Führung durch die Sonderausstellung DANSE MACABRE &#8211; tote
 ntanz mit gemeinsamer Gesprächsrunde zum Thema &#8222;Totentanz in der Geg
 enwart&#8220; und anschließender künstlerischer Auseinandersetzung: maler
 isch mit Aquarell oder plastisch mit Modelliermasse.Dieser Workshop entsteh
 t in Kooperation mit der Ambulanten Hospizgruppe Niederrhein. Mit Anmeldung
  | Workshop für Erwachsene | 25\, 00 Euro pro Person inklusive Material[..
 ]\nhttps://niederrheinisches-museum-kevelaer.de/events/zeitgemaess-totentan
 z/
URL:https://niederrheinisches-museum-kevelaer.de/events/zeitgemaess-totentanz/
END:VEVENT
END:VCALENDAR