BEGIN:VCALENDAR
VERSION:2.0
PRODID:-//eventon.com NONSGML v1.0//EN
CALSCALE:GREGORIAN
METHOD:PUBLISH
BEGIN:VEVENT
UID:69e8efd595be1
DTSTAMP:20260422T155709Z
DTSTART:20241109T110000Z
DTEND:20241109T160000Z
LOCATION:
SUMMARY:Kunstvoll: Totentanz
DESCRIPTION:Die kolorierten Zeichnungen von Martin Lersch brillieren durch 
 ihren einzigartigen Zeichenstil. Jedoch findet sich in jeder ein Vorbild au
 s der Kunstgeschichte\,  das der Künstler in seinen Arbeiten neu interpret
 iert. In diesem Sinne entstehen nach einer Führung zu DANSE MACABRE &#8211
 ; totentanz die ersten Entwürfe der Workshop-Teilnehmenden noch in der Aus
 stellung\, [..]\nhttps://niederrheinisches-museum-kevelaer.de/events/kunstv
 oll-totentanz/
URL:https://niederrheinisches-museum-kevelaer.de/events/kunstvoll-totentanz/
END:VEVENT
END:VCALENDAR