BEGIN:VCALENDAR
VERSION:2.0
PRODID:-//eventon.com NONSGML v1.0//EN
CALSCALE:GREGORIAN
METHOD:PUBLISH
BEGIN:VEVENT
UID:69e73b177e2b5
DTSTAMP:20260421T085343Z
DTSTART:20241214T120000Z
DTEND:20241214T130000Z
LOCATION:Niederrheinisches Museum Kevelaer Hauptstraße 18
SUMMARY:Führung DANSE MACABRE - totentanz begleitet von Martin Lersch
DESCRIPTION:In der Sonderausstellung DANSE MACABRE &#8211; totentanz treten
  ausgesuchte Objekte aus dem Fundus des Niederrheinischen Museums in einen 
 spannenden Dialog mit den außergewöhnlichen Zeichnungen des niederrheinis
 chen Künstlers Martin Lersch aus Goch. Während der Führung sind die Besu
 cher dazu eingeladen\,  in diesen Dialog mit einzutauchen\,  Näheres über
  das Thema Totentanz im[..]\nhttps://niederrheinisches-museum-kevelaer.de/e
 vents/fuehrung-danse-macabre-totentanz-begleitet-von-martin-lersch/
URL:https://niederrheinisches-museum-kevelaer.de/events/fuehrung-danse-macabre-totentanz-begleitet-von-martin-lersch/
END:VEVENT
END:VCALENDAR