BEGIN:VCALENDAR
VERSION:2.0
PRODID:-//eventon.com NONSGML v1.0//EN
CALSCALE:GREGORIAN
METHOD:PUBLISH
BEGIN:VEVENT
UID:69e73c9a5aa85
DTSTAMP:20260421T090010Z
DTSTART:20240913T150000Z
DTEND:20240913T163000Z
LOCATION:Niederrheinisches Museum Kevelaer Hauptstraße 18
SUMMARY:Wildes Zeichenatelier in der Spielzeugsammlung
DESCRIPTION:Schwarzweißes oder koloriertes Zeichnen von Lieblingsspielzeug
 en in unterschiedlichen Kunststilen zwischen Realismus\,  Expressionismus u
 nd Kubismus. ohne Anmeldung | für Jugendliche und Kinder | 7\, 50 Euro pro
  Person\nhttps://niederrheinisches-museum-kevelaer.de/events/wildes-zeichen
 atelier-in-der-spielzeugsammlung/
URL:https://niederrheinisches-museum-kevelaer.de/events/wildes-zeichenatelier-in-der-spielzeugsammlung/
END:VEVENT
END:VCALENDAR