BEGIN:VCALENDAR
VERSION:2.0
PRODID:-//eventon.com NONSGML v1.0//EN
CALSCALE:GREGORIAN
METHOD:PUBLISH
BEGIN:VEVENT
UID:69e920973c231
DTSTAMP:20260422T192511Z
DTSTART:20240622T110000Z
DTEND:20240622T160000Z
LOCATION:Niederrheinisches Museum Kevelaer Hauptstraße 18
SUMMARY:Workshop für Erwachsene: VON ZEICHNUNGEN\,  GLASMALEREI UND ABSTRAKTION
DESCRIPTION:Inspiriert durch die Führung zu Hans Mennekes entstehen die e
 rsten Zeichnungen und werden anschließend konturiert und mit Glasmalfarben
  auf Acrylglas übertragen. Die Glasmalereien werden daraufhin ohne Kontur
 en in Aquarell\,  Pastell oder Acryl erneut ausgeführt. So entstehen abst
 rahierte Flächenmalereien wie sie für Hans Mennekes typisch waren. Die T
 eilnehmenden erarbeiten in diesem[..]\nhttps://niederrheinisches-museum-kev
 elaer.de/events/workshop-fuer-erwachsene-von-zeichnungen-glasmalerei-und-ab
 straktion/
URL:https://niederrheinisches-museum-kevelaer.de/events/workshop-fuer-erwachsene-von-zeichnungen-glasmalerei-und-abstraktion/
END:VEVENT
END:VCALENDAR