BEGIN:VCALENDAR
VERSION:2.0
PRODID:-//eventon.com NONSGML v1.0//EN
CALSCALE:GREGORIAN
METHOD:PUBLISH
BEGIN:VEVENT
UID:69e75fbfb1cc9
DTSTAMP:20260421T113007Z
DTSTART:20240615T110000Z
DTEND:20240615T150000Z
LOCATION:Niederrheinisches Museum Kevelaer Hauptstraße 18
SUMMARY:Workshop für Jugendliche: MENNEKES IM SCHNITT
DESCRIPTION:Nach einer kurzen Führung erstellen die Jugendlichen noch in 
 der Ausstellung Zeichnungen nach den Bildern von Hans Mennekes und arbeiten
  diese im Anschluss in der Museumsschule im Linolschnitt aus. Dieser kann d
 ann in bunten Farben auf eine Baumwolltasche oder einen Beutelrucksack gedr
 uckt und zum außergewöhnlichen Hingucker für Unterwegs werden. Mit[..]\
 nhttps://niederrheinisches-museum-kevelaer.de/events/workshop-fuer-jugendli
 che-mennekes-im-schnitt/
URL:https://niederrheinisches-museum-kevelaer.de/events/workshop-fuer-jugendliche-mennekes-im-schnitt/
END:VEVENT
END:VCALENDAR