BEGIN:VCALENDAR
VERSION:2.0
PRODID:-//eventon.com NONSGML v1.0//EN
CALSCALE:GREGORIAN
METHOD:PUBLISH
BEGIN:VEVENT
UID:69eb088df1c8e
DTSTAMP:20260424T060709Z
DTSTART:20240623T120000Z
DTEND:20240623T130000Z
LOCATION:Niederrheinisches Museum Kevelaer Hauptstraße 18
SUMMARY:Sommerkonzert der Jungen Streicher Kevelaer e.V.
DESCRIPTION:Die „Cappella Piccola“\,  das Mittelstufenorchester der Jun
 gen Streicher Kevelaer e.V.\,  präsentiert bei ihrem Sommerkonzert 2024 ei
 n temperamentvolles und kurzweiliges Programm mit Musik aus drei Jahrhunder
 ten. Der Auftritt in der Museumspassage wird von Maren Brezinka moderiert u
 nd dirigiert. Begrenzter Kartenvorverkauf im Museum | 6\, 00 Euro pro Perso
 n Bilddatei: Bernd Neumann\nhttps://niederrheinisches-museum-kevelaer.de/ev
 ents/sommerkonzert-der-jungen-streicher-kevelaer-e-v-2/
URL:https://niederrheinisches-museum-kevelaer.de/events/sommerkonzert-der-jungen-streicher-kevelaer-e-v-2/
END:VEVENT
END:VCALENDAR