BEGIN:VCALENDAR
VERSION:2.0
PRODID:-//eventon.com NONSGML v1.0//EN
CALSCALE:GREGORIAN
METHOD:PUBLISH
BEGIN:VEVENT
UID:69e88adf4a92d
DTSTAMP:20260422T084623Z
DTSTART:20240505T140000Z
DTEND:20240505T150000Z
LOCATION:Niederrheinisches Museum Kevelaer Hauptstraße 18
SUMMARY:Eine Stunde / Ein Museum
DESCRIPTION:Klassische Führung durch das Museum mit ausgesuchten Themensch
 werpunkten. Ohne Anmeldung | 5\, 00 Euro pro Person Bildquelle: Gerhard Sey
 bert\nhttps://niederrheinisches-museum-kevelaer.de/events/eine-stunde-ein-m
 useum-3/
URL:https://niederrheinisches-museum-kevelaer.de/events/eine-stunde-ein-museum-3/
END:VEVENT
END:VCALENDAR