BEGIN:VCALENDAR
VERSION:2.0
PRODID:-//eventon.com NONSGML v1.0//EN
CALSCALE:GREGORIAN
METHOD:PUBLISH
BEGIN:VEVENT
UID:69e52ba437b39
DTSTAMP:20260419T192316Z
DTSTART:20240224T140000Z
DTEND:20240224T170000Z
LOCATION:Niederrheinisches Museum Kevelaer Hauptstraße 18
SUMMARY:AUFGETUSCHT. KRITISCH KREATIV „jung & kreativ“ – Workshop
DESCRIPTION:Kolorierte Tuschezeichnungen treffen auf Zeichenmotive mit Schr
 ift in Form von sozial- oder gesellschaftskritischen Aussagen\,  in Eigenkr
 eation oder inspiriert durch Sponti-Sprüche\,  Zitate\,  Weisheiten. Anme
 ldungen nur über www.wirksam-ev.de/de/jung-und-kreativ/ für Jugendliche
  und Kinder ab 8 Jahren | kostenlos\nhttps://niederrheinisches-museum-kevel
 aer.de/events/aufgetuscht-kritisch-kreativ-jung-kreativ-workshop/
URL:https://niederrheinisches-museum-kevelaer.de/events/aufgetuscht-kritisch-kreativ-jung-kreativ-workshop/
END:VEVENT
END:VCALENDAR