BEGIN:VCALENDAR
VERSION:2.0
PRODID:-//eventon.com NONSGML v1.0//EN
CALSCALE:GREGORIAN
METHOD:PUBLISH
BEGIN:VEVENT
UID:69ed6bd70b933
DTSTAMP:20260426T013519Z
DTSTART:20240202T150000Z
DTEND:20240202T163000Z
LOCATION:Niederrheinisches Museum Kevelaer Hauptstraße 18
SUMMARY:Wildes Zeichenatelier
DESCRIPTION:Offener Workshop zum freien Zeichnen und Malen mit Stilexperime
 nten und einer bunten Palette an Material. Ohne Anmeldung | für Jugendlich
 e und Kinder | 7\, 50 Euro pro Person\nhttps://niederrheinisches-museum-kev
 elaer.de/events/wildes-zeichenatelier/var/ri-1.l-L1
URL:https://niederrheinisches-museum-kevelaer.de/events/wildes-zeichenatelier/var/ri-1.l-L1
END:VEVENT
END:VCALENDAR