BEGIN:VCALENDAR
VERSION:2.0
PRODID:-//eventon.com NONSGML v1.0//EN
CALSCALE:GREGORIAN
METHOD:PUBLISH
BEGIN:VEVENT
UID:69eb4727062fd
DTSTAMP:20260424T103415Z
DTSTART:20240217T110000Z
DTEND:20240217T150000Z
LOCATION:Niederrheinisches Museum Kevelaer Hauptstraße 18
SUMMARY:Unlimited Peace. Linoldruckkunst zum Thema Frieden
DESCRIPTION:Workshop für Erwachsene und Jugendliche mit der Künstlerin Ni
 cole Peters zu 50 Jahre BBK Mit Anmeldung | 35\, 00 Euro pro Person\nhttps:
 //niederrheinisches-museum-kevelaer.de/events/unlimited-peace-linoldruckkun
 st-zum-thema-frieden/
URL:https://niederrheinisches-museum-kevelaer.de/events/unlimited-peace-linoldruckkunst-zum-thema-frieden/
END:VEVENT
END:VCALENDAR