BEGIN:VCALENDAR
VERSION:2.0
PRODID:-//eventon.com NONSGML v1.0//EN
CALSCALE:GREGORIAN
METHOD:PUBLISH
BEGIN:VEVENT
UID:69ed698c3aa46
DTSTAMP:20260426T012532Z
DTSTART:20240221T123000Z
DTEND:20240221T130000Z
LOCATION:Niederrheinisches Museum Kevelaer Hauptstraße 18
SUMMARY:Kunstpause. Kurzführung zum Mittag
DESCRIPTION:Kurzweilige Führung in der Mittagspause\,  bei der jeweils ein
  besonderer Themenbereich unter die Lupe genommen wird. Ohne Anmeldung | 2\
 , 50 Euro pro Person\nhttps://niederrheinisches-museum-kevelaer.de/events/k
 unstpause-kurzfuehrung-zum-mittag-2/
URL:https://niederrheinisches-museum-kevelaer.de/events/kunstpause-kurzfuehrung-zum-mittag-2/
END:VEVENT
END:VCALENDAR