BEGIN:VCALENDAR
VERSION:2.0
PRODID:-//eventon.com NONSGML v1.0//EN
CALSCALE:GREGORIAN
METHOD:PUBLISH
BEGIN:VEVENT
UID:69e89cc4af2fe
DTSTAMP:20260422T100244Z
DTSTART:20240204T140000Z
DTEND:20240204T150000Z
LOCATION:Niederrheinisches Museum Kevelaer Hauptstraße 18
SUMMARY:Eine Stunde / Ein Museum. Führung durch das Haus
DESCRIPTION:Klassische Führung durch das Museum mit ausgesuchten Themensch
 werpunkten. Ohne Anmeldung | 5\, 00 Euro pro Person\nhttps://niederrheinisc
 hes-museum-kevelaer.de/events/eine-stunde-ein-museum-fuehrung-durch-das-hau
 s/
URL:https://niederrheinisches-museum-kevelaer.de/events/eine-stunde-ein-museum-fuehrung-durch-das-haus/
END:VEVENT
END:VCALENDAR