BEGIN:VCALENDAR
VERSION:2.0
PRODID:-//eventon.com NONSGML v1.0//EN
CALSCALE:GREGORIAN
METHOD:PUBLISH
BEGIN:VEVENT
UID:69ea33ced2ac8
DTSTAMP:20260423T145926Z
DTSTART:20231118T100000Z
DTEND:20231118T123000Z
LOCATION:Niederrheinisches Museum Kevelaer Hauptstraße 18
SUMMARY:"Bald\,  bald\,  bald…" Adventskalender selbst gestalten
DESCRIPTION:Dieser Workshop gehört zu den festen Traditionen des Niederrhe
 inischen Museums: Ob klassisch oder ausgefallen aber in jedem Fall mit Glit
 zer werden die Kalender von den Teilnehmenden mit Liebe und Vorfreude gesta
 ltet. Mit Anmeldung | ab 6 Jahren | 7\, 50 Euro pro Person Foto @Niederrhei
 nisches Museum Kevelaer\nhttps://niederrheinisches-museum-kevelaer.de/event
 s/bald-bald-bald-adventskalender-selbst-gestalten-3/
URL:https://niederrheinisches-museum-kevelaer.de/events/bald-bald-bald-adventskalender-selbst-gestalten-3/
END:VEVENT
END:VCALENDAR