BEGIN:VCALENDAR
VERSION:2.0
PRODID:-//eventon.com NONSGML v1.0//EN
CALSCALE:GREGORIAN
METHOD:PUBLISH
BEGIN:VEVENT
UID:69ea2758b39c5
DTSTAMP:20260423T140616Z
DTSTART:20231221T140000Z
DTEND:20231221T163000Z
LOCATION:Niederrheinisches Museum Kevelaer Hauptstraße 18
SUMMARY:Winteratelier
DESCRIPTION:Beim Letzte-Minute-Weihnachtsgeschenke-Basteln können sich Kin
 der\,  Jugendliche und Erwachsene an diesem ersten Ferientag ganz auf Weihn
 achten einstimmen. Ob für sich selbst oder für seine Lieben\,  zwischen F
 arben\,  Lichtern und Glitzer werden kleine Ideen zu feierlichen Kreationen
 . Mit Anmeldung | Kinder unter 6 Jahren nur mit Begleitung | 9\, 00 Euro pr
 o Person[..]\nhttps://niederrheinisches-museum-kevelaer.de/events/winterate
 lier-4/
URL:https://niederrheinisches-museum-kevelaer.de/events/winteratelier-4/
END:VEVENT
END:VCALENDAR