BEGIN:VCALENDAR
VERSION:2.0
PRODID:-//eventon.com NONSGML v1.0//EN
CALSCALE:GREGORIAN
METHOD:PUBLISH
BEGIN:VEVENT
UID:69e5781bcde73
DTSTAMP:20260420T004931Z
DTSTART:20231213T180000Z
DTEND:20231213T193000Z
LOCATION:Niederrheinisches Museum Kevelaer Hauptstraße 18
SUMMARY:"Die Hl. Familie" - Eine kunstvolle Weihnachtsgeschichte. Vortrag in Kooperation mit der VHS
DESCRIPTION:Weihnachten – das Fest\,  an dem die Familien traditionell zu
 sammenkommen. Seinen Ursprung hat es vor 2023 Jahren mit der Gründung eine
 r neuen Familie in Bethlehem\,  die unter einem ganz besonderen Stern stand
 . Die Geburt Christi ist das ergreifendste Ereignis in der christlichen Wel
 tgeschichte und bis heute für die meisten Menschen[..]\nhttps://niederrhei
 nisches-museum-kevelaer.de/events/die-hl-familie-eine-kunstvolle-weihnachts
 geschichte-vortrag-in-kooperation-mit-der-vhs/
URL:https://niederrheinisches-museum-kevelaer.de/events/die-hl-familie-eine-kunstvolle-weihnachtsgeschichte-vortrag-in-kooperation-mit-der-vhs/
END:VEVENT
END:VCALENDAR