BEGIN:VCALENDAR
VERSION:2.0
PRODID:-//eventon.com NONSGML v1.0//EN
CALSCALE:GREGORIAN
METHOD:PUBLISH
BEGIN:VEVENT
UID:69e7544b64563
DTSTAMP:20260421T104115Z
DTSTART:20230709T140000Z
DTEND:20230709T150000Z
LOCATION:Niederrheinisches Museum Kevelaer Hauptstraße 18
SUMMARY:Führung mit dem Schwerpunkt Heinz Henschel: Geheimnisse im Licht
DESCRIPTION:Am 23. Juli 2023 endet die aktuelle Sonderausstellung „Versch
 wiegenes Schaffen – Werk im Schatten“ im Niederrheinischen Museum Kevel
 aer und mit ihr die letzte Gelegenheit sich die einzigartigen Erzählwelten
  des Viersener Künstlers Heinz Henschel (1938 – 2016) im Original anzusc
 hauen. Wer zudem Näheres über die Biografie oder die faszinierenden Arbei
 tstechniken des[..]\nhttps://niederrheinisches-museum-kevelaer.de/events/fu
 ehrung-mit-dem-schwerpunkt-heinz-henschel-geheimnisse-im-licht-4/
URL:https://niederrheinisches-museum-kevelaer.de/events/fuehrung-mit-dem-schwerpunkt-heinz-henschel-geheimnisse-im-licht-4/
END:VEVENT
END:VCALENDAR