BEGIN:VCALENDAR
VERSION:2.0
PRODID:-//eventon.com NONSGML v1.0//EN
CALSCALE:GREGORIAN
METHOD:PUBLISH
BEGIN:VEVENT
UID:69e54c68adad9
DTSTAMP:20260419T214304Z
DTSTART:20230923T110000Z
DTEND:20230923T120000Z
LOCATION:Niederrheinisches Museum Kevelaer Hauptstraße 18
SUMMARY:Eine Stunde / Ein Museum
DESCRIPTION:Das Niederrheinische Museum hat viele Facetten. Es leitet seine
  Besucher auf 2.500 m² durch die verschiedensten Epochen und zeigt ihm zah
 lreiche Objekte in den unterschiedlichsten Formen\,  Techniken und Stilen. 
 Staunenswert sind sie alle\,  doch in dieser Führung werden die Kulturgege
 nstände und ihre Themenbereiche inhaltlich auf eine kurzweilige Stunde kom
 primiert und[..]\nhttps://niederrheinisches-museum-kevelaer.de/events/eine-
 stunde-ein-museum/
URL:https://niederrheinisches-museum-kevelaer.de/events/eine-stunde-ein-museum/
END:VEVENT
END:VCALENDAR