BEGIN:VCALENDAR
VERSION:2.0
PRODID:-//eventon.com NONSGML v1.0//EN
CALSCALE:GREGORIAN
METHOD:PUBLISH
BEGIN:VEVENT
UID:69e73b178c7eb
DTSTAMP:20260421T085343Z
DTSTART:20230727T100000Z
DTEND:20230727T113000Z
LOCATION:Niederrheinisches Museum Kevelaer Hauptstraße 18
SUMMARY:Mini-Workshop: Blaudruck\,  Gründruck\,  Buntdruck
DESCRIPTION:Die Technik des Blaudrucks ist jahrhundertealt und ein wohlbewa
 hrtes Kulturgut. Tatsächlich geht es hier aber nicht ums Drucken\,  sonder
 n vielmehr ums Färben von Stoffen. Das weiße Muster entsteht dabei mithil
 fe einer Schablone\,  die die Teilnehmenden mit ihren Lieblingsmotiven selb
 st entwerfen. Beim Stofffärben dürfen dann verschiedene Farben ausprobier
 t werden. Der MINI-Workshop[..]\nhttps://niederrheinisches-museum-kevelaer.
 de/events/sommeratelier-mini-blaudruck-gruendruck-buntdruck/
URL:https://niederrheinisches-museum-kevelaer.de/events/sommeratelier-mini-blaudruck-gruendruck-buntdruck/
END:VEVENT
END:VCALENDAR