BEGIN:VCALENDAR
VERSION:2.0
PRODID:-//eventon.com NONSGML v1.0//EN
CALSCALE:GREGORIAN
METHOD:PUBLISH
BEGIN:VEVENT
UID:69eb3d1b94d13
DTSTAMP:20260424T095123Z
DTSTART:20230810T190000Z
DTEND:20230810T200000Z
LOCATION:Niederrheinisches Museum Kevelaer Hauptstraße 18
SUMMARY:Die Sammlung Dr. Georg und Eva Ratermann - Vortrag "Ein Überblick"
DESCRIPTION:Ohne Anmeldung | 6\, 00 Euro pro Person Foto @ Gottfried Evers\
 nhttps://niederrheinisches-museum-kevelaer.de/events/die-sammlung-dr-georg-
 und-eva-ratermann-vortrag-ein-ueberblick/
URL:https://niederrheinisches-museum-kevelaer.de/events/die-sammlung-dr-georg-und-eva-ratermann-vortrag-ein-ueberblick/
END:VEVENT
END:VCALENDAR