BEGIN:VCALENDAR
VERSION:2.0
PRODID:-//eventon.com NONSGML v1.0//EN
CALSCALE:GREGORIAN
METHOD:PUBLISH
BEGIN:VEVENT
UID:69e9f3c7981ee
DTSTAMP:20260423T102615Z
DTSTART:20230701T120000Z
DTEND:20230701T130000Z
LOCATION:Niederrheinisches Museum Kevelaer Hauptstraße 18
SUMMARY:Führung zur Sonderausstellung: Geheimnisse im Licht
DESCRIPTION:Nach 5 Jahren sind die Werke von Heinz Henschel wieder im Niede
 rrheinische Museum in Kevelaer zu sehen. Diesmal jedoch nicht in einer Einz
 elausstellung\,  sondern in Begleitung der Werke von Erwin Hapke. Noch bis 
 zum 23. Juli können Arbeiten beider Künstler unter dem Titel „Verschwie
 genes Schaffen – Werk im Schatten“ bestaunt[..]\nhttps://niederrheinisc
 hes-museum-kevelaer.de/events/fuehrung-zur-sonderausstellung-geheimnisse-im
 -licht-2/
URL:https://niederrheinisches-museum-kevelaer.de/events/fuehrung-zur-sonderausstellung-geheimnisse-im-licht-2/
END:VEVENT
END:VCALENDAR