BEGIN:VCALENDAR
VERSION:2.0
PRODID:-//eventon.com NONSGML v1.0//EN
CALSCALE:GREGORIAN
METHOD:PUBLISH
BEGIN:VEVENT
UID:69ea549a0f3c1
DTSTAMP:20260423T171922Z
DTSTART:20230211T100000Z
DTEND:20230211T123000Z
LOCATION:Niederrheinisches Museum Kevelaer Hauptstraße 18
SUMMARY:Happy Valentine - Kinderworkshop zum Valentinstag
DESCRIPTION:Am 14. Februar ist der Tag des Hl. Valentin\,  dem Schutzpatron
  der Liebenden. Noch heute beschenken wir darum unseren Valentinsschatz mit
  einer besonderen Aufmerksamkeit. Außergewöhnliche Ideen dazu liefert die
 ser Workshop direkt mit\,  wo romantische genauso wie freundschaftliche Ges
 chenke gebastelt und gestaltet werden können. PS: Diese gefallen den Besch
 enkten sicher nicht[..]\nhttps://niederrheinisches-museum-kevelaer.de/event
 s/happy-valentine-kinderworkshop-zum-valentinstag/
URL:https://niederrheinisches-museum-kevelaer.de/events/happy-valentine-kinderworkshop-zum-valentinstag/
END:VEVENT
END:VCALENDAR