BEGIN:VCALENDAR
VERSION:2.0
PRODID:-//eventon.com NONSGML v1.0//EN
CALSCALE:GREGORIAN
METHOD:PUBLISH
BEGIN:VEVENT
UID:69e781d453689
DTSTAMP:20260421T135532Z
DTSTART:20221210T150000Z
DTEND:20221210T160000Z
LOCATION:Niederrheinisches Museum Kevelaer Hauptstraße 18
SUMMARY:Nulli und Priesemut
DESCRIPTION:Frosch Priesemut amüsiert sich über seinen Freund\,  den Hase
 n Nulli\,  weil er auf Lügengeschichten hereinfällt. Als Priesemut kurz d
 arauf von Nulli an der Nase herumgeführt wird\,  ist der Frosch richtig sa
 uer – was passieren kann\,  wenn man seinen besten Freund anlügt. Begren
 zter Kartenvorverkauf | 5\, 00 Euro pro Person Bilder @Wodo[..]\nhttps://ni
 ederrheinisches-museum-kevelaer.de/events/nulli-und-priesemut/
URL:https://niederrheinisches-museum-kevelaer.de/events/nulli-und-priesemut/
END:VEVENT
END:VCALENDAR