BEGIN:VCALENDAR
VERSION:2.0
PRODID:-//eventon.com NONSGML v1.0//EN
CALSCALE:GREGORIAN
METHOD:PUBLISH
BEGIN:VEVENT
UID:69e753e6d7bd1
DTSTAMP:20260421T103934Z
DTSTART:20221119T100000Z
DTEND:20221119T123000Z
LOCATION:Niederrheinisches Museum Kevelaer HauptstraÃŸe 18
SUMMARY:Bald\,  bald\,  baldâ€¦ Adventskalender selbst gestalten
DESCRIPTION:In alljÃ¤hrlicher Tradition entwerfen die Teilnehmenden in dies
 em Workshop ihren eigenen Adventskalender. Ob klassisch zum HÃ¤ngen oder et
 was auÃŸergewÃ¶hnlicher als Tischdekoration\,  die kunstvollen Kreationen d
 er Kinder machen in ihrer Vorfreude auf Weihnachten den grauen November frÃ
 ¶hlich und bunt. Mit Anmeldung | ab 6 Jahren | 7\, 50 Euro pro Person Bild[
 ..]\nhttps://niederrheinisches-museum-kevelaer.de/events/bald-bald-bald-adv
 entskalender-selbst-gestalten/
URL:https://niederrheinisches-museum-kevelaer.de/events/bald-bald-bald-adventskalender-selbst-gestalten/
END:VEVENT
END:VCALENDAR