BEGIN:VCALENDAR
VERSION:2.0
PRODID:-//eventon.com NONSGML v1.0//EN
CALSCALE:GREGORIAN
METHOD:PUBLISH
BEGIN:VEVENT
UID:69e544b6028ea
DTSTAMP:20260419T211014Z
DTSTART:20220904T150000Z
DTEND:20220904T170000Z
LOCATION:Niederrheinisches Museum Kevelaer Hauptstraße 18
SUMMARY:Konzert: "Juchhe!" - Lieder von Johannes Brahms
DESCRIPTION:Dieses eigentlich schon 2020 geplante Konzert wird endlich von 
 Johannes Hombergen am Klavier\,  Frederik Geene an der Violine und Gesine L
 ersch mit Gesang im Museum aufgeführt. Stücke wie &#8222;Juchhe! op.6 Nr.
  4&#8220; oder &#8222;Von ewiger Liebe op.43 Nr.1&#8220; finden Einzug in d
 as Konzert. Begrenzter Kartenverkauf im Museum | 12\, 00 Euro[..]\nhttps://
 niederrheinisches-museum-kevelaer.de/events/konzert-juchhe-lieder-von-johan
 nes-brahms/
URL:https://niederrheinisches-museum-kevelaer.de/events/konzert-juchhe-lieder-von-johannes-brahms/
END:VEVENT
END:VCALENDAR