BEGIN:VCALENDAR
VERSION:2.0
PRODID:-//eventon.com NONSGML v1.0//EN
CALSCALE:GREGORIAN
METHOD:PUBLISH
BEGIN:VEVENT
UID:69e9ec604cbf0
DTSTAMP:20260423T095440Z
DTSTART:20220902T100000Z
DTEND:20220902T133000Z
LOCATION:Niederrheinisches Museum Kevelaer Hauptstraße 18
SUMMARY:Sütterlin-Schreibwerkstatt
DESCRIPTION:Lieblingswörter und kleine Texte&#8230; stehen in diesem Works
 hop im Historischen Klassenzimmer des Museums im Vordergrund. Dabei sind so
 wohl Neueinsteiger als auch Weitermacher herzlich willkommen\,  um dieses b
 esondere Kulturgut zu erlernen\,  zu üben und in gewisser Weise auch mit z
 u erhalten. Mit Anmeldung | 10\, 00 Euro pro Person\nhttps://niederrheinisc
 hes-museum-kevelaer.de/events/suetterlin-schreibwerkstatt/
URL:https://niederrheinisches-museum-kevelaer.de/events/suetterlin-schreibwerkstatt/
END:VEVENT
END:VCALENDAR