BEGIN:VCALENDAR
VERSION:2.0
PRODID:-//eventon.com NONSGML v1.0//EN
CALSCALE:GREGORIAN
METHOD:PUBLISH
BEGIN:VEVENT
UID:69eb7f568d2c6
DTSTAMP:20260424T143358Z
DTSTART:20220707T190000Z
DTEND:20220707T200000Z
LOCATION:Niederrheinisches Museum Kevelaer Hauptstraße 18
SUMMARY:Vortrag: Bestseller und Kassenschlager (fällt aus)
DESCRIPTION:In den 1980er Jahren gab es in der Literatur einige Werke\,  di
 e heute Klassiker sind. Manche wurden später verfilmt und manche erst durc
 h ihre Verfilmung zum Klassiker. Diese werden im dritten Teil der Vortragsr
 eihe zur 80er Jahre-Ausstellung vorgestellt und einmal genauer betrachtet.\
 nhttps://niederrheinisches-museum-kevelaer.de/events/vortrag-bestseller-und
 -kassenschlager/
URL:https://niederrheinisches-museum-kevelaer.de/events/vortrag-bestseller-und-kassenschlager/
END:VEVENT
END:VCALENDAR