BEGIN:VCALENDAR
VERSION:2.0
PRODID:-//eventon.com NONSGML v1.0//EN
CALSCALE:GREGORIAN
METHOD:PUBLISH
BEGIN:VEVENT
UID:69ea8e54acb19
DTSTAMP:20260423T212540Z
DTSTART:20220803T100000Z
DTEND:20220803T123000Z
LOCATION:Niederrheinisches Museum Kevelaer Hauptstraße 18
SUMMARY:Sommeratelier: Wilde Malereien
DESCRIPTION:Sie waren jung\,  wild\,  emotional\,  frech und expressiv: Die
  „Jungen“ oder „Neuen Wilden“\,  die in der Malerei der 80er Jahre 
 für Aufsehen sorgten. Mit kräftigen Farben und schwungvollem Pinsel dürf
 en sich in diesem Sommeratelier auch die Teilnehmenden auf der Leinwand ode
 r großen Papierbögen in verschiedenen Techniken einfach mal austoben und[
 ..]\nhttps://niederrheinisches-museum-kevelaer.de/events/sommeratelier-wild
 e-malereien/
URL:https://niederrheinisches-museum-kevelaer.de/events/sommeratelier-wilde-malereien/
END:VEVENT
END:VCALENDAR