BEGIN:VCALENDAR
VERSION:2.0
PRODID:-//eventon.com NONSGML v1.0//EN
CALSCALE:GREGORIAN
METHOD:PUBLISH
BEGIN:VEVENT
UID:69ecd63f5987a
DTSTAMP:20260425T145703Z
DTSTART:20220428T200000Z
DTEND:20220428T210000Z
LOCATION:Niederrheinisches Museum Kevelaer Hauptstraße 18
SUMMARY:Lesung:KRÖNER VERLAG: Bernadette Schoog – Marie kommt heim
DESCRIPTION:KRÖNER VERLAG: Bernadette Schoog – Marie kommt heim Veröffe
 ntlicht am 20. März 2022 VVK 8 EUR in der Bücherstube und im Museum Marie
 \,  Mitte vierzig\,  attraktiv. Nach einigen Irrungen und Wirrungen in der 
 Liebe hat sie sich in eine ruhige Kleinstadt im Süden zurückgezogen und b
 eschlossen\,  fortan seelisch unverletzt zu[..]\nhttps://niederrheinisches-
 museum-kevelaer.de/events/lesungkroener-verlag-bernadette-schoog-marie-komm
 t-heim/
URL:https://niederrheinisches-museum-kevelaer.de/events/lesungkroener-verlag-bernadette-schoog-marie-kommt-heim/
END:VEVENT
END:VCALENDAR