BEGIN:VCALENDAR
VERSION:2.0
PRODID:-//eventon.com NONSGML v1.0//EN
CALSCALE:GREGORIAN
METHOD:PUBLISH
BEGIN:VEVENT
UID:69ecb9e69f8f5
DTSTAMP:20260425T125606Z
DTSTART:20220428T153000Z
DTEND:20220428T163000Z
LOCATION:Niederrheinisches Museum Kevelaer Hauptstraße 18
SUMMARY:Lehrerfortbildung zur Sonderausstellung "Popper\,  Punker\, ...
DESCRIPTION:Willkommen in den 80ern!&#8220; Mit Anmeldung | Für Lehrer Kos
 tenlos!!!\nhttps://niederrheinisches-museum-kevelaer.de/events/lehrerfortbi
 ldung-zur-sonderausstellung-popper-punker/
URL:https://niederrheinisches-museum-kevelaer.de/events/lehrerfortbildung-zur-sonderausstellung-popper-punker/
END:VEVENT
END:VCALENDAR